BEGIN:VCALENDAR
VERSION:2.0
PRODID:-//wp-events-plugin.com//6.6.3//EN
TZID:Europe/Madrid
X-WR-TIMEZONE:Europe/Madrid
BEGIN:VEVENT
UID:20544@semanadelacienciacyl.es
DTSTART;TZID=Europe/Madrid:20231113T083000
DTEND;TZID=Europe/Madrid:20231117T150000
DTSTAMP:20231106T093033Z
URL:https://semanadelacienciacyl.es/events/enfermeria-investiga-3/
SUMMARY:Enfermería investiga
DESCRIPTION:Exposición de carteles informativos\n\nINFORMACIÓN Y RESERVAS
 : 983184161 - Universidad de Valladolid\nORGANIZA: Universidad de Valladol
 id. Colaboran: Facultad de Enfermería\, Campus de Valladolid y Campus Mar
 ía Zambrano de Segovia. Facultad de Ciencias de la Salud\, Campus Duques 
 de Soria.\nDIRIGIDO A: Público General
CATEGORIES:Público General
LOCATION:Facultad de Enfermería - Campus de Segovia\, Plaza de la Universi
 dad\, 1\, Segovia \, Segovia \, 40005\, Castilla y León\, España
GEO:40.941793;-4.114134
X-APPLE-STRUCTURED-LOCATION;VALUE=URI;X-ADDRESS=Plaza de la Universidad\, 1
 \, Segovia \, Segovia \, 40005\, Castilla y León\, España;X-APPLE-RADIUS
 =100;X-TITLE=Facultad de Enfermería - Campus de Segovia:geo:40.941793,-4.
 114134
END:VEVENT
BEGIN:VTIMEZONE
TZID:Europe/Madrid
X-LIC-LOCATION:Europe/Madrid
BEGIN:STANDARD
DTSTART:20231029T020000
TZOFFSETFROM:+0200
TZOFFSETTO:+0100
TZNAME:CET
END:STANDARD
END:VTIMEZONE
END:VCALENDAR