BEGIN:VCALENDAR
VERSION:2.0
PRODID:-//wp-events-plugin.com//6.6.3//EN
TZID:Europe/Madrid
X-WR-TIMEZONE:Europe/Madrid
BEGIN:VEVENT
UID:21616@semanadelacienciacyl.es
DTSTART;TZID=Europe/Madrid:20251111T100000
DTEND;TZID=Europe/Madrid:20251111T120000
DTSTAMP:20251024T114737Z
URL:https://semanadelacienciacyl.es/events/explorando-el-cerebro-con-eeg-y
 -bci/
SUMMARY:EXPLORANDO EL CEREBRO CON EEG Y BCI
DESCRIPTION:&nbsp\;\n\nEn este taller conoceremos cómo funciona el electro
 encefalograma (EEG)\, una técnica que permite registrar la actividad elé
 ctrica del cerebro de forma no invasiva. También aprenderemos qué es una
  interfaz cerebro–ordenador (BCI\, por sus siglas en inglés) y cómo pu
 ede transformar la actividad cerebral en comandos que una máquina puede i
 nterpretar.\n\nDurante la sesión:\n\n1) Explicaremos qué es el EEG y có
 mo se colocan los electrodos para medir señales cerebrales.\n\n2) Veremos
  para qué se utilizan hoy en día las BCI\, desde la investigación cient
 ífica hasta la ayuda a personas con discapacidad.\n\n3) Realizaremos una 
 demostración práctica colocando un casco EEG a un voluntario.\n\n4) Real
 izaremos una demostración práctica colocando un casco EEG a un voluntari
 o.\n\nLugar: Aula B.014. Facultad de Medicina\, Av. Ramón y Cajal\, 7\, 4
 7003 Valladolid\n\n&nbsp\;
ATTACH;FMTTYPE=image/jpeg:https://semanadelacienciacyl.es/wp-content/uploa
 ds/2025/10/UNIVERSIDAD-DE-VALLADOLID-UNIDAD-DE-CULTURA-CIENTIFICA-42.png
CATEGORIES:Estudiantes de ESO, Bachillerato, Ciclos Formativos
LOCATION:Facultad de Medicina de la Universidad de Valladolid\, Avenida Ram
 ón y Cajal\,7\, Valladolid\, Valladolid\, 47003\, España
GEO:41.654737;-4.717658
X-APPLE-STRUCTURED-LOCATION;VALUE=URI;X-ADDRESS=Avenida Ramón y Cajal\,7\,
  Valladolid\, Valladolid\, 47003\, España;X-APPLE-RADIUS=100;X-TITLE=Facu
 ltad de Medicina de la Universidad de Valladolid:geo:41.654737,-4.717658
END:VEVENT
BEGIN:VTIMEZONE
TZID:Europe/Madrid
X-LIC-LOCATION:Europe/Madrid
BEGIN:STANDARD
DTSTART:20251026T020000
TZOFFSETFROM:+0200
TZOFFSETTO:+0100
TZNAME:CET
END:STANDARD
END:VTIMEZONE
END:VCALENDAR