BEGIN:VCALENDAR
VERSION:2.0
PRODID:-//wp-events-plugin.com//6.6.3//EN
TZID:Europe/Madrid
X-WR-TIMEZONE:Europe/Madrid
BEGIN:VEVENT
UID:20423@semanadelacienciacyl.es
DTSTART;TZID=Europe/Madrid:20221118T120000
DTEND;TZID=Europe/Madrid:20221118T130000
DTSTAMP:20221107T124612Z
URL:https://semanadelacienciacyl.es/events/hpc-el-superordenador-calendula
 -15/
SUMMARY:HPC: El Superordenador Caléndula
DESCRIPTION:\n\n\nCharla divulgativa sobre que es y que se puede hacer en u
 n superordenador.\n\n \n\n\n\nTlf:\n987-29-31-60\nInscripciones:\n\n \n\
 ninfo@scayle.es\nindicando dia de asistencia\, nombre\, apellidos y DNI.\n
 Organiza: SCAYLE\nwww.scayle.es\n15 personas máximo por grupo.\nUn grupo 
 cada día.\n\n\n\n\n\n\n
CATEGORIES:Público General
LOCATION:Supercomputación Castilla y León (SCAYLE)\, Edificio CRAI-TIC\, 
 Campus de Vegazana s/n.\, León\, León\, 24071\, España
X-APPLE-STRUCTURED-LOCATION;VALUE=URI;X-ADDRESS=Edificio CRAI-TIC\, Campus 
 de Vegazana s/n.\, León\, León\, 24071\, España;X-APPLE-RADIUS=100;X-TI
 TLE=Supercomputación Castilla y León (SCAYLE):geo:0,0
END:VEVENT
BEGIN:VTIMEZONE
TZID:Europe/Madrid
X-LIC-LOCATION:Europe/Madrid
BEGIN:STANDARD
DTSTART:20221030T020000
TZOFFSETFROM:+0200
TZOFFSETTO:+0100
TZNAME:CET
END:STANDARD
END:VTIMEZONE
END:VCALENDAR