BEGIN:VCALENDAR
VERSION:2.0
PRODID:-//wp-events-plugin.com//6.6.3//EN
TZID:Europe/Madrid
X-WR-TIMEZONE:Europe/Madrid
BEGIN:VEVENT
UID:20441@semanadelacienciacyl.es
DTSTART;TZID=Europe/Madrid:20221118T190000
DTEND;TZID=Europe/Madrid:20221118T200000
DTSTAMP:20221110T130925Z
URL:https://semanadelacienciacyl.es/events/la-resistencia-a-los-antibiotic
 os-la-pandemia-tras-la-pandemia/
SUMMARY:La resistencia a los antibióticos: La pandemia tras la pandemia
DESCRIPTION:La aparición de bacterias multirresistentes a los antibiótico
 s es uno de los retos más relevantes a la que nos enfrentamos como socied
 ad y una de las principales causas de muerte en todo el mundo.\n\nORGANIZA
 : Museo Evolución Humana y Universidad de Burgos\nDIRIGIDO A: Público Ge
 neral \n
CATEGORIES:Público General
LOCATION:Museo de la Evolución Humana (MEH)\, P.º Sierra de Atapuerca\, s
 /n\, Burgos\, Burgos\, 09002\, España
GEO:42.340092;-3.696592
X-APPLE-STRUCTURED-LOCATION;VALUE=URI;X-ADDRESS=P.º Sierra de Atapuerca\, 
 s/n\, Burgos\, Burgos\, 09002\, España;X-APPLE-RADIUS=100;X-TITLE=Museo d
 e la Evolución Humana (MEH):geo:42.340092,-3.696592
END:VEVENT
BEGIN:VTIMEZONE
TZID:Europe/Madrid
X-LIC-LOCATION:Europe/Madrid
BEGIN:STANDARD
DTSTART:20221030T020000
TZOFFSETFROM:+0200
TZOFFSETTO:+0100
TZNAME:CET
END:STANDARD
END:VTIMEZONE
END:VCALENDAR