BEGIN:VCALENDAR
VERSION:2.0
PRODID:-//wp-events-plugin.com//6.6.3//EN
TZID:Europe/Madrid
X-WR-TIMEZONE:Europe/Madrid
BEGIN:VEVENT
UID:21187@semanadelacienciacyl.es
DTSTART;TZID=Europe/Madrid:20251114T120000
DTEND;TZID=Europe/Madrid:20251114T130000
DTSTAMP:20251105T100526Z
URL:https://semanadelacienciacyl.es/events/obtencion-de-evidencias-digital
 es-de-un-automovil/
SUMMARY:Obtención de evidencias digitales de un automóvil
DESCRIPTION:Se presentará un sistema innovador para la obtención y certif
 icación de evidencias digitales en automóviles conectados\, diseñado pa
 ra garantizar la integridad\, trazabilidad y validez legal de los datos re
 cogidos durante un análisis forense. La solución combina técnicas de mo
 nitorización vehicular y registro inmutable mediante blockchain sin alter
 ar el funcionamiento del vehículo\, asegurando una cadena de custodia dig
 ital fiable y verificable.\nProyecto financiado por la UE dentro de la Com
 pra Pública Innovadora gestionada por INCIBE CPP3_R2 Ciberseguridad en el
  vehículo conectado (CPP3-CPP001/23)
ATTACH;FMTTYPE=image/jpeg:https://semanadelacienciacyl.es/wp-content/uploa
 ds/2025/10/logotipo-universidad-de-leon-14.png
CATEGORIES:Público General
LOCATION:https://meet.google.com/vvc-vvkp-zvj
END:VEVENT
BEGIN:VTIMEZONE
TZID:Europe/Madrid
X-LIC-LOCATION:Europe/Madrid
BEGIN:STANDARD
DTSTART:20251026T020000
TZOFFSETFROM:+0200
TZOFFSETTO:+0100
TZNAME:CET
END:STANDARD
END:VTIMEZONE
END:VCALENDAR